BEGIN:VCALENDAR
VERSION:2.0
PRODID:-//Buscallà-La teva tranquil·litat... - ECPv6.15.20//NONSGML v1.0//EN
CALSCALE:GREGORIAN
METHOD:PUBLISH
X-ORIGINAL-URL:https://buscalla.com
X-WR-CALDESC:Esdeveniments per Buscallà-La teva tranquil·litat...
REFRESH-INTERVAL;VALUE=DURATION:PT1H
X-Robots-Tag:noindex
X-PUBLISHED-TTL:PT1H
BEGIN:VTIMEZONE
TZID:Europe/Andorra
BEGIN:DAYLIGHT
TZOFFSETFROM:+0100
TZOFFSETTO:+0200
TZNAME:CEST
DTSTART:20190331T010000
END:DAYLIGHT
BEGIN:STANDARD
TZOFFSETFROM:+0200
TZOFFSETTO:+0100
TZNAME:CET
DTSTART:20191027T010000
END:STANDARD
BEGIN:DAYLIGHT
TZOFFSETFROM:+0100
TZOFFSETTO:+0200
TZNAME:CEST
DTSTART:20200329T010000
END:DAYLIGHT
BEGIN:STANDARD
TZOFFSETFROM:+0200
TZOFFSETTO:+0100
TZNAME:CET
DTSTART:20201025T010000
END:STANDARD
BEGIN:DAYLIGHT
TZOFFSETFROM:+0100
TZOFFSETTO:+0200
TZNAME:CEST
DTSTART:20210328T010000
END:DAYLIGHT
BEGIN:STANDARD
TZOFFSETFROM:+0200
TZOFFSETTO:+0100
TZNAME:CET
DTSTART:20211031T010000
END:STANDARD
END:VTIMEZONE
BEGIN:VEVENT
DTSTART;VALUE=DATE:20200630
DTEND;VALUE=DATE:20200701
DTSTAMP:20260423T072041
CREATED:20200617T091327Z
LAST-MODIFIED:20210408T073322Z
UID:7349-1593475200-1593561599@buscalla.com
SUMMARY:Darrer dia per presentar Declaració de Renda i Patrimoni 2019
DESCRIPTION:És el darrer dia per presentar la Declaració de Renda i Patrimoni 2019. Consulta la informació Declaració de Renda i Patrimoni-exercici 2019
URL:https://buscalla.com/calendari/darrer-dia-per-presentar-declaracio-de-renda-i-patrimoni-2019/
LOCATION:BUSCALLÀ Assessoria Assegurances Immobiliària\, Pl Pi i Margall\, 1\, Gironella\, Barcelona\, 08680\, Espanya
CATEGORIES:FISCAL
ATTACH;FMTTYPE=image/jpeg:https://buscalla.com/wp-content/uploads/2020/04/Declaracio-Renda-2019-.jpg
END:VEVENT
END:VCALENDAR