BEGIN:VCALENDAR
VERSION:2.0
PRODID:-//Buscallà-La teva tranquil·litat... - ECPv6.15.20//NONSGML v1.0//EN
CALSCALE:GREGORIAN
METHOD:PUBLISH
X-WR-CALNAME:Buscallà-La teva tranquil·litat...
X-ORIGINAL-URL:https://buscalla.com
X-WR-CALDESC:Esdeveniments per Buscallà-La teva tranquil·litat...
REFRESH-INTERVAL;VALUE=DURATION:PT1H
X-Robots-Tag:noindex
X-PUBLISHED-TTL:PT1H
BEGIN:VTIMEZONE
TZID:Europe/Andorra
BEGIN:DAYLIGHT
TZOFFSETFROM:+0100
TZOFFSETTO:+0200
TZNAME:CEST
DTSTART:20210328T010000
END:DAYLIGHT
BEGIN:STANDARD
TZOFFSETFROM:+0200
TZOFFSETTO:+0100
TZNAME:CET
DTSTART:20211031T010000
END:STANDARD
BEGIN:DAYLIGHT
TZOFFSETFROM:+0100
TZOFFSETTO:+0200
TZNAME:CEST
DTSTART:20220327T010000
END:DAYLIGHT
BEGIN:STANDARD
TZOFFSETFROM:+0200
TZOFFSETTO:+0100
TZNAME:CET
DTSTART:20221030T010000
END:STANDARD
BEGIN:DAYLIGHT
TZOFFSETFROM:+0100
TZOFFSETTO:+0200
TZNAME:CEST
DTSTART:20230326T010000
END:DAYLIGHT
BEGIN:STANDARD
TZOFFSETFROM:+0200
TZOFFSETTO:+0100
TZNAME:CET
DTSTART:20231029T010000
END:STANDARD
END:VTIMEZONE
BEGIN:VEVENT
DTSTART;TZID=Europe/Andorra:20220131T000000
DTEND;TZID=Europe/Andorra:20220131T235959
DTSTAMP:20260422T011102
CREATED:20220105T083700Z
LAST-MODIFIED:20220105T115617Z
UID:8502-1643587200-1643673599@buscalla.com
SUMMARY:Liquidació IVA-IRPF 4rt trimestre 2021
DESCRIPTION:Liquidació IVA-IRPF 4rt trimestre 2021 : Termini per a presentar de les declaracions d’IVA i d’IRPF del 4art. trimestre 2021. Confia’ns els teus tràmits fiscals i d’empresa. Som professionals\, t’assessorem i t’ho posem fàcil.
URL:https://buscalla.com/calendari/liquidacio-iva-irpf-4rt-trimestre-2021/
LOCATION:BUSCALLÀ Assessoria Assegurances Immobiliària\, Pl Pi i Margall\, 1\, Gironella\, Barcelona\, 08680\, Espanya
CATEGORIES:EMPRESES,FISCAL
ORGANIZER;CN="Buscall%C3%A0 Assessoria Assegurances Immobili%C3%A0ria":MAILTO:grup@buscalla.cat
END:VEVENT
END:VCALENDAR