BEGIN:VCALENDAR
VERSION:2.0
PRODID:-//Buscallà-La teva tranquil·litat... - ECPv6.15.20//NONSGML v1.0//EN
CALSCALE:GREGORIAN
METHOD:PUBLISH
X-ORIGINAL-URL:https://buscalla.com
X-WR-CALDESC:Esdeveniments per Buscallà-La teva tranquil·litat...
REFRESH-INTERVAL;VALUE=DURATION:PT1H
X-Robots-Tag:noindex
X-PUBLISHED-TTL:PT1H
BEGIN:VTIMEZONE
TZID:Europe/Andorra
BEGIN:DAYLIGHT
TZOFFSETFROM:+0100
TZOFFSETTO:+0200
TZNAME:CEST
DTSTART:20210328T010000
END:DAYLIGHT
BEGIN:STANDARD
TZOFFSETFROM:+0200
TZOFFSETTO:+0100
TZNAME:CET
DTSTART:20211031T010000
END:STANDARD
BEGIN:DAYLIGHT
TZOFFSETFROM:+0100
TZOFFSETTO:+0200
TZNAME:CEST
DTSTART:20220327T010000
END:DAYLIGHT
BEGIN:STANDARD
TZOFFSETFROM:+0200
TZOFFSETTO:+0100
TZNAME:CET
DTSTART:20221030T010000
END:STANDARD
BEGIN:DAYLIGHT
TZOFFSETFROM:+0100
TZOFFSETTO:+0200
TZNAME:CEST
DTSTART:20230326T010000
END:DAYLIGHT
BEGIN:STANDARD
TZOFFSETFROM:+0200
TZOFFSETTO:+0100
TZNAME:CET
DTSTART:20231029T010000
END:STANDARD
END:VTIMEZONE
BEGIN:VEVENT
DTSTART;TZID=Europe/Andorra:20220406T000000
DTEND;TZID=Europe/Andorra:20220630T235959
DTSTAMP:20260421T221112
CREATED:20220330T085045Z
LAST-MODIFIED:20220330T085048Z
UID:10094-1649203200-1656633599@buscalla.com
SUMMARY:Declaració de Renda i Patrimoni 2021
DESCRIPTION:Declaració de Renda i Patrimoni 2021 : període per a la presentació de les declaracions de l’exercici 2021. El termini per a la presentació amb domiciliació bancària és el dia 27 de juny de 2022. \n\n\n\n \n\n\n\nEt fem la tramitació amb professionalitat i comoditat per a tu. DEMANA HORA
URL:https://buscalla.com/calendari/declaracio-de-renda-i-patrimoni-2021/
CATEGORIES:FISCAL
END:VEVENT
BEGIN:VEVENT
DTSTART;TZID=Europe/Andorra:20220420T000000
DTEND;TZID=Europe/Andorra:20220420T235959
DTSTAMP:20260421T221112
CREATED:20220321T083000Z
LAST-MODIFIED:20220321T125612Z
UID:8864-1650412800-1650499199@buscalla.com
SUMMARY:Liquidació IVA-IRPF I.Societats 1er Trimestre 2022
DESCRIPTION:Liquidació IVA-IRPF I.Societats 1er Trimestre 2022 : Termini per a presentar de les declaracions d’IVA i d’IRPF i Impost de Societats del 1er. trimestre 2022.\nConfia’ns els teus tràmits fiscals i d’empresa. Som professionals\, t’assessorem i t’ho posem fàcil.\nConsulta tota l’oferta que tenim per a tu en assessoria
URL:https://buscalla.com/calendari/liquidacio-iva-irpf-i-societats-1er-trimestre-2022/
CATEGORIES:FISCAL
END:VEVENT
END:VCALENDAR