BEGIN:VCALENDAR
VERSION:2.0
PRODID:-//Buscallà-La teva tranquil·litat... - ECPv6.15.20//NONSGML v1.0//EN
CALSCALE:GREGORIAN
METHOD:PUBLISH
X-ORIGINAL-URL:https://buscalla.com
X-WR-CALDESC:Esdeveniments per Buscallà-La teva tranquil·litat...
REFRESH-INTERVAL;VALUE=DURATION:PT1H
X-Robots-Tag:noindex
X-PUBLISHED-TTL:PT1H
BEGIN:VTIMEZONE
TZID:Europe/Andorra
BEGIN:DAYLIGHT
TZOFFSETFROM:+0100
TZOFFSETTO:+0200
TZNAME:CEST
DTSTART:20170326T010000
END:DAYLIGHT
BEGIN:STANDARD
TZOFFSETFROM:+0200
TZOFFSETTO:+0100
TZNAME:CET
DTSTART:20171029T010000
END:STANDARD
BEGIN:DAYLIGHT
TZOFFSETFROM:+0100
TZOFFSETTO:+0200
TZNAME:CEST
DTSTART:20180325T010000
END:DAYLIGHT
BEGIN:STANDARD
TZOFFSETFROM:+0200
TZOFFSETTO:+0100
TZNAME:CET
DTSTART:20181028T010000
END:STANDARD
BEGIN:DAYLIGHT
TZOFFSETFROM:+0100
TZOFFSETTO:+0200
TZNAME:CEST
DTSTART:20190331T010000
END:DAYLIGHT
BEGIN:STANDARD
TZOFFSETFROM:+0200
TZOFFSETTO:+0100
TZNAME:CET
DTSTART:20191027T010000
END:STANDARD
END:VTIMEZONE
BEGIN:VEVENT
DTSTART;TZID=Europe/Andorra:20181206T090000
DTEND;TZID=Europe/Andorra:20181206T190000
DTSTAMP:20260424T073518
CREATED:20181126T081738Z
LAST-MODIFIED:20181126T082437Z
UID:2149-1544086800-1544122800@buscalla.com
SUMMARY:HORARI: OBERT
DESCRIPTION:Obert: \nmatí de 9 a 1 \ntarda de 3 a 7 \n 
URL:https://buscalla.com/calendari/horari-obert/
CATEGORIES:HORARI
END:VEVENT
BEGIN:VEVENT
DTSTART;VALUE=DATE:20181231
DTEND;VALUE=DATE:20190101
DTSTAMP:20260424T073518
CREATED:20181126T082343Z
LAST-MODIFIED:20181126T082459Z
UID:2154-1546214400-1546300799@buscalla.com
SUMMARY:HORARI: TANCAT
DESCRIPTION:Tancat tot el dia
URL:https://buscalla.com/calendari/horari-tancat/
CATEGORIES:HORARI
END:VEVENT
END:VCALENDAR