BEGIN:VCALENDAR
VERSION:2.0
PRODID:-//Buscallà-La teva tranquil·litat... - ECPv6.15.20//NONSGML v1.0//EN
CALSCALE:GREGORIAN
METHOD:PUBLISH
X-ORIGINAL-URL:https://buscalla.com
X-WR-CALDESC:Esdeveniments per Buscallà-La teva tranquil·litat...
REFRESH-INTERVAL;VALUE=DURATION:PT1H
X-Robots-Tag:noindex
X-PUBLISHED-TTL:PT1H
BEGIN:VTIMEZONE
TZID:Europe/Andorra
BEGIN:DAYLIGHT
TZOFFSETFROM:+0100
TZOFFSETTO:+0200
TZNAME:CEST
DTSTART:20190331T010000
END:DAYLIGHT
BEGIN:STANDARD
TZOFFSETFROM:+0200
TZOFFSETTO:+0100
TZNAME:CET
DTSTART:20191027T010000
END:STANDARD
BEGIN:DAYLIGHT
TZOFFSETFROM:+0100
TZOFFSETTO:+0200
TZNAME:CEST
DTSTART:20200329T010000
END:DAYLIGHT
BEGIN:STANDARD
TZOFFSETFROM:+0200
TZOFFSETTO:+0100
TZNAME:CET
DTSTART:20201025T010000
END:STANDARD
BEGIN:DAYLIGHT
TZOFFSETFROM:+0100
TZOFFSETTO:+0200
TZNAME:CEST
DTSTART:20210328T010000
END:DAYLIGHT
BEGIN:STANDARD
TZOFFSETFROM:+0200
TZOFFSETTO:+0100
TZNAME:CET
DTSTART:20211031T010000
END:STANDARD
END:VTIMEZONE
BEGIN:VEVENT
DTSTART;TZID=Europe/Andorra:20200727T090000
DTEND;TZID=Europe/Andorra:20200904T140000
DTSTAMP:20260423T001822
CREATED:20200701T110916Z
LAST-MODIFIED:20210701T103935Z
UID:7453-1595840400-1599228000@buscalla.com
SUMMARY:Horari oficina estiu 2020 tarda tancat
DESCRIPTION:Horari oficina estiu 2020 tarda tancat-Buscallà.El 27 de juliol comença el nostre horari d’estiu\, amb jornada intensiva de dilluns a divendres de 9 a 2 del matí. Tarda tancat. Aquest horari és fins el 4 de setembre.\n\nAquí pots consultar les dades de contacte i l’horari de la resta de l’any.
URL:https://buscalla.com/calendari/horari-oficina-estiu-2020-tarda-tancat/
LOCATION:BUSCALLÀ Assessoria Assegurances Immobiliària\, Pl Pi i Margall\, 1\, Gironella\, Barcelona\, 08680\, Espanya
CATEGORIES:HORARI
ATTACH;FMTTYPE=image/jpeg:https://buscalla.com/wp-content/uploads/2020/07/horari-oficina-estiu-Buscalla.jpg
ORGANIZER;CN="Buscall%C3%A0 Assessoria Assegurances Immobili%C3%A0ria":MAILTO:grup@buscalla.cat
END:VEVENT
END:VCALENDAR