BEGIN:VCALENDAR
VERSION:2.0
PRODID:-//Buscallà-La teva tranquil·litat... - ECPv6.15.20//NONSGML v1.0//EN
CALSCALE:GREGORIAN
METHOD:PUBLISH
X-ORIGINAL-URL:https://buscalla.com
X-WR-CALDESC:Esdeveniments per Buscallà-La teva tranquil·litat...
REFRESH-INTERVAL;VALUE=DURATION:PT1H
X-Robots-Tag:noindex
X-PUBLISHED-TTL:PT1H
BEGIN:VTIMEZONE
TZID:Europe/Andorra
BEGIN:DAYLIGHT
TZOFFSETFROM:+0100
TZOFFSETTO:+0200
TZNAME:CEST
DTSTART:20180325T010000
END:DAYLIGHT
BEGIN:STANDARD
TZOFFSETFROM:+0200
TZOFFSETTO:+0100
TZNAME:CET
DTSTART:20181028T010000
END:STANDARD
BEGIN:DAYLIGHT
TZOFFSETFROM:+0100
TZOFFSETTO:+0200
TZNAME:CEST
DTSTART:20190331T010000
END:DAYLIGHT
BEGIN:STANDARD
TZOFFSETFROM:+0200
TZOFFSETTO:+0100
TZNAME:CET
DTSTART:20191027T010000
END:STANDARD
BEGIN:DAYLIGHT
TZOFFSETFROM:+0100
TZOFFSETTO:+0200
TZNAME:CEST
DTSTART:20200329T010000
END:DAYLIGHT
BEGIN:STANDARD
TZOFFSETFROM:+0200
TZOFFSETTO:+0100
TZNAME:CET
DTSTART:20201025T010000
END:STANDARD
END:VTIMEZONE
BEGIN:VEVENT
DTSTART;TZID=Europe/Andorra:20190729T083000
DTEND;TZID=Europe/Andorra:20190830T140000
DTSTAMP:20260423T194517
CREATED:20190701T094609Z
LAST-MODIFIED:20190805T071059Z
UID:4863-1564389000-1567173600@buscalla.com
SUMMARY:HORARI estiu oficina Buscallà-2019
DESCRIPTION:DE DILLUNS A DIVENDRES MATÍ DE 2/4 9 A 2\, TARDA TANCAT. Recorda que pots contactar amb nosaltres\, també per correu electrònic i whatsapp-CONSULTA L’APARTAT CONTACTA D’AQUESTA WEB
URL:https://buscalla.com/calendari/horari-estiu-oficina-buscalla-2019-2/
LOCATION:BUSCALLÀ Assessoria Assegurances Immobiliària\, Pl Pi i Margall\, 1\, Gironella\, Barcelona\, 08680\, Espanya
CATEGORIES:HORARI
ATTACH;FMTTYPE=image/png:https://buscalla.com/wp-content/uploads/2019/07/platja-estiu.png
END:VEVENT
END:VCALENDAR