BEGIN:VCALENDAR
VERSION:2.0
PRODID:-//Buscallà-La teva tranquil·litat... - ECPv6.15.20//NONSGML v1.0//EN
CALSCALE:GREGORIAN
METHOD:PUBLISH
X-WR-CALNAME:Buscallà-La teva tranquil·litat...
X-ORIGINAL-URL:https://buscalla.com
X-WR-CALDESC:Esdeveniments per Buscallà-La teva tranquil·litat...
REFRESH-INTERVAL;VALUE=DURATION:PT1H
X-Robots-Tag:noindex
X-PUBLISHED-TTL:PT1H
BEGIN:VTIMEZONE
TZID:Europe/Andorra
BEGIN:DAYLIGHT
TZOFFSETFROM:+0100
TZOFFSETTO:+0200
TZNAME:CEST
DTSTART:20210328T010000
END:DAYLIGHT
BEGIN:STANDARD
TZOFFSETFROM:+0200
TZOFFSETTO:+0100
TZNAME:CET
DTSTART:20211031T010000
END:STANDARD
BEGIN:DAYLIGHT
TZOFFSETFROM:+0100
TZOFFSETTO:+0200
TZNAME:CEST
DTSTART:20220327T010000
END:DAYLIGHT
BEGIN:STANDARD
TZOFFSETFROM:+0200
TZOFFSETTO:+0100
TZNAME:CET
DTSTART:20221030T010000
END:STANDARD
BEGIN:DAYLIGHT
TZOFFSETFROM:+0100
TZOFFSETTO:+0200
TZNAME:CEST
DTSTART:20230326T010000
END:DAYLIGHT
BEGIN:STANDARD
TZOFFSETFROM:+0200
TZOFFSETTO:+0100
TZNAME:CET
DTSTART:20231029T010000
END:STANDARD
END:VTIMEZONE
BEGIN:VEVENT
DTSTART;TZID=Europe/Andorra:20220606T000000
DTEND;TZID=Europe/Andorra:20220606T235959
DTSTAMP:20260422T040733
CREATED:20220510T084727Z
LAST-MODIFIED:20220510T084729Z
UID:10279-1654473600-1654559999@buscalla.com
SUMMARY:Festiu-Segona Pàsqua
DESCRIPTION:Festiu-Segona Pàsqua 2022. Dia festiu a tot Catalunya\, oficina tancada
URL:https://buscalla.com/calendari/festiu-segona-pasqua/
CATEGORIES:FESTIU,TANCAT
END:VEVENT
END:VCALENDAR